BEGIN:VCALENDAR
VERSION:2.0
PRODID:-//Blue Dog Glass - ECPv5.0.1//NONSGML v1.0//EN
CALSCALE:GREGORIAN
METHOD:PUBLISH
X-WR-CALNAME:Blue Dog Glass
X-ORIGINAL-URL:https://bluedogglass.com.au
X-WR-CALDESC:Events for Blue Dog Glass
BEGIN:VTIMEZONE
TZID:Australia/Melbourne
BEGIN:STANDARD
TZOFFSETFROM:+1100
TZOFFSETTO:+1000
TZNAME:AEST
DTSTART:20200404T160000
END:STANDARD
BEGIN:DAYLIGHT
TZOFFSETFROM:+1000
TZOFFSETTO:+1100
TZNAME:AEDT
DTSTART:20201003T160000
END:DAYLIGHT
END:VTIMEZONE
BEGIN:VEVENT
DTSTART;TZID=Australia/Melbourne:20200201T094500
DTEND;TZID=Australia/Melbourne:20200201T124500
DTSTAMP:20200225T045950
CREATED:20191210T071115Z
LAST-MODIFIED:20191220T015720Z
UID:9889-1580550300-1580561100@bluedogglass.com.au
SUMMARY:Ongoing Kiln Formed Glass 5 weeks
DESCRIPTION:In these classes students are presented with the opportunity to continue to develop their own style of work under the guidance of a teacher and alongside peers of a similar level. Students are welcome to explore and develop any techniques they like in the area of kiln formed glass. In the ongoing classes we introduce students to all our coldworking equipment\, with the outcome of producing works of a professional standard. These classes are very popular so book in early to reserve a place. Students must have completed levels 1 and 2 in kilnforming at Blue Dog Glass (or equivalent) to enter into these glasses \nDates:1st\, 8th\, 15th\, 22nd and 29th Feb \nYou will learn about:\nContinuing development of kiln forming techniques . Introduction and supervision on coldworking equipment such as; Sandblaster\, linisher\, diamond saw\, lathe\, flatbed and engraver. \nClass Materials \nPlease bring the following to class:\n• Dust mask • Safety glasses • Suitable working clothing (including closed shoes\, long pants and an apron for over shirt) • Glass cutter and any tools you might require • Glass • Windex and paper towel \n
URL:https://bluedogglass.com.au/event/ongoing-kiln-formed-glass-5-weeks/2020-02-01/
CATEGORIES:Fusing & Slumping
ATTACH;FMTTYPE=image/jpeg:https://bluedogglass.com.au/wp-content/uploads/kiln-formed-glass.jpg
END:VEVENT
END:VCALENDAR